BEGIN:VCALENDAR
VERSION:2.0
PRODID:-//Stichting Erfgoed Goirle - ECPv6.15.20//NONSGML v1.0//EN
CALSCALE:GREGORIAN
METHOD:PUBLISH
X-WR-CALNAME:Stichting Erfgoed Goirle
X-ORIGINAL-URL:https://erfgoedgoirle.nl
X-WR-CALDESC:Evenementen voor Stichting Erfgoed Goirle
REFRESH-INTERVAL;VALUE=DURATION:PT1H
X-Robots-Tag:noindex
X-PUBLISHED-TTL:PT1H
BEGIN:VTIMEZONE
TZID:Europe/Amsterdam
BEGIN:DAYLIGHT
TZOFFSETFROM:+0100
TZOFFSETTO:+0200
TZNAME:CEST
DTSTART:20250330T010000
END:DAYLIGHT
BEGIN:STANDARD
TZOFFSETFROM:+0200
TZOFFSETTO:+0100
TZNAME:CET
DTSTART:20251026T010000
END:STANDARD
BEGIN:DAYLIGHT
TZOFFSETFROM:+0100
TZOFFSETTO:+0200
TZNAME:CEST
DTSTART:20260329T010000
END:DAYLIGHT
BEGIN:STANDARD
TZOFFSETFROM:+0200
TZOFFSETTO:+0100
TZNAME:CET
DTSTART:20261025T010000
END:STANDARD
BEGIN:DAYLIGHT
TZOFFSETFROM:+0100
TZOFFSETTO:+0200
TZNAME:CEST
DTSTART:20270328T010000
END:DAYLIGHT
BEGIN:STANDARD
TZOFFSETFROM:+0200
TZOFFSETTO:+0100
TZNAME:CET
DTSTART:20271031T010000
END:STANDARD
END:VTIMEZONE
BEGIN:VEVENT
DTSTART;TZID=Europe/Amsterdam:20260421T200000
DTEND;TZID=Europe/Amsterdam:20260421T220000
DTSTAMP:20260421T100142
CREATED:20260401T164401Z
LAST-MODIFIED:20260401T164412Z
UID:7215-1776801600-1776808800@erfgoedgoirle.nl
SUMMARY:Lezing Bernard van Dam
DESCRIPTION:Op 21 april aanstaande zal Nard Jansen een lezing verzorgen over zijn grootvader en Eerdenaar Bernard van Dam (1881-1958). Deze Bernard was in zijn jonge jaren bakker en molenaar in het kleine dorp Eerde bij Veghel. Maar hij werd later tot ver in Brabant een bekende schrijver en tekenaar. Het heemkundig boek “Oud-Brabants Dorpsleven” over hem uit 1972 met tal van verhalen en tekeningen over ambachten en gebruiken rond 1900 staat bij menigeen in de boekenkast. \nVoor de inhoud van de lezing wordt geput uit het in 2020 gepubliceerde volledige oeuvre van Bernard van Dam. Een omvangrijke boekenserie die in z’n geheel als een monument van het Brabants cultureel erfgoed kan worden beschouwd. De gehele boekenserie is te lezen op de website van de familiestichting www.bernardvandam.com.\nOm je hierin te verdiepen is echter een hele klus. Daarom is het mooi dat 21 april a.s. Bernards kleinzoon Nard Jansen over zijn opa komt vertellen. \nDe opvallende karaktertrekken van Bernard van Dam maken hem een bijzondere Brabander.\nEen grote verscheidenheid aan interessante foto’s en tekeningen worden getoond\, waarbij ook de omgeving van Goirle aan bod komt; voor u nog onbekend. Amusante anekdotes en wetenswaardigheden worden verteld. \nHet is zeker de moeite waard deze interessante lezing bij te wonen. Wij nodigen U dan ook graag uit.  U bent zoals altijd van harte welkom.
URL:https://erfgoedgoirle.nl/event/lezing-bernard-van-dam/
LOCATION:De Wildacker\, Van Hogendorpplein 73\, Goirle\, 5051 ST\, Netherlands
CATEGORIES:Lezing
ATTACH;FMTTYPE=image/jpeg:https://erfgoedgoirle.nl/wp-content/uploads/2026/04/Afbeelding1.jpg
END:VEVENT
BEGIN:VEVENT
DTSTART;TZID=Europe/Amsterdam:20260427T093000
DTEND;TZID=Europe/Amsterdam:20260427T120000
DTSTAMP:20260421T100142
CREATED:20260307T121447Z
LAST-MODIFIED:20260310T144711Z
UID:7125-1777282200-1777291200@erfgoedgoirle.nl
SUMMARY:Bestuursvergadering 27 april 2026
DESCRIPTION:Bestuursvergadering
URL:https://erfgoedgoirle.nl/event/bestuursvergadering-27-april-2026/
LOCATION:Heemerf “De Schutsboom”\, Nieuwe Rielseweg 41-43\, Goirle\, Noord-Brabant\, 5051 PD\, Netherlands
CATEGORIES:Vergadering
ATTACH;FMTTYPE=image/png:https://erfgoedgoirle.nl/wp-content/uploads/2025/02/Bestuursvergadering.png
END:VEVENT
BEGIN:VEVENT
DTSTART;TZID=Europe/Amsterdam:20260503T140000
DTEND;TZID=Europe/Amsterdam:20260503T163000
DTSTAMP:20260421T100142
CREATED:20250401T144937Z
LAST-MODIFIED:20260307T123822Z
UID:5517-1777816800-1777825800@erfgoedgoirle.nl
SUMMARY:Bezoek gratis ons museum
DESCRIPTION:Een oud boerenerf is omgetoverd tot streekmuseum: Heemerf de Schutsboom. Het museum biedt een kijkje in de ontwikkeling van Goirle en de manier waarop mensen vroeger leefden. Leuk om eens binnen te lopen\, de geschiedenis ligt er voor het oprapen. \nIn het museum lijkt het alsof de tijd heeft stilgestaan. Erfbeplanting\, een oude waterput en een oud wevershuisje met bijenstal herinneren jou en/of je (groot)ouders aan vroeger. Maak een wandeling door de kruidentuin met talloze kruiden of breng een bezoekje aan de korenmolen. Het museum bezit ook verschillende oude schatten zoals verschillende oorlogsrelicten en sieraden. \nVan 5 april t/m 18 oktober 2026 elke eerste en derde zondag van de maand tussen 14.00 en 16.30 uur. Op afspraak is ook mogelijk. \n 
URL:https://erfgoedgoirle.nl/event/bezoek-ons-museum-in-juli-3e-zondag/
LOCATION:Heemerf “De Schutsboom”\, Nieuwe Rielseweg 41-43\, Goirle\, Noord-Brabant\, 5051 PD\, Netherlands
CATEGORIES:Museum
ATTACH;FMTTYPE=image/jpeg:https://erfgoedgoirle.nl/wp-content/uploads/2024/10/museumsmiske.jpg
END:VEVENT
BEGIN:VEVENT
DTSTART;TZID=Europe/Amsterdam:20260517T140000
DTEND;TZID=Europe/Amsterdam:20260517T163000
DTSTAMP:20260421T100142
CREATED:20250218T194255Z
LAST-MODIFIED:20260310T144811Z
UID:5116-1779026400-1779035400@erfgoedgoirle.nl
SUMMARY:Bezoek gratis ons museum
DESCRIPTION:Een oud boerenerf is omgetoverd tot streekmuseum: Heemerf de Schutsboom. Het museum biedt een kijkje in de ontwikkeling van Goirle en de manier waarop mensen vroeger leefden. Leuk om eens binnen te lopen\, de geschiedenis ligt er voor het oprapen. \nIn het museum lijkt het alsof de tijd heeft stilgestaan. Erfbeplanting\, een oude waterput en een oud wevershuisje met bijenstal herinneren jou en/of je (groot)ouders aan vroeger. Maak een wandeling door de kruidentuin met talloze kruiden of breng een bezoekje aan de korenmolen. Het museum bezit ook verschillende oude schatten zoals verschillende oorlogsrelicten en sieraden. \nVan 5 april t/m 18 oktober 2026 elke eerste en derde zondag van de maand tussen 14.00 en 16.30 uur. Op afspraak is ook mogelijk. \n 
URL:https://erfgoedgoirle.nl/event/bezoek-ons-museum-in-september-2/
LOCATION:Heemerf “De Schutsboom”\, Nieuwe Rielseweg 41-43\, Goirle\, Noord-Brabant\, 5051 PD\, Netherlands
CATEGORIES:Museum
ATTACH;FMTTYPE=image/jpeg:https://erfgoedgoirle.nl/wp-content/uploads/2025/01/162-180A.jpg
END:VEVENT
BEGIN:VEVENT
DTSTART;TZID=Europe/Amsterdam:20260527T193000
DTEND;TZID=Europe/Amsterdam:20260527T213000
DTSTAMP:20260421T100142
CREATED:20260409T183441Z
LAST-MODIFIED:20260409T184752Z
UID:7259-1779910200-1779917400@erfgoedgoirle.nl
SUMMARY:Tekens van leven uit de Goirlese geschiedenis
DESCRIPTION:Geologie\, archeologie\, bewoningsgeschiedenis van grafheuvelbouwers\, Merovingers en boeren. \nMet de laatste nieuwtjes van de opgraving op de Bakertand (2026)! \nDoor Willem van der Kuijlen. Op woensdag 27  mei 2026. \nDe locatie is onze eigen schuur achter de Schutsboom aan de Nieuwe Rielseweg 41-43 in Goirle. Daar kunnen zeker 50 personen in. Voor koffie en frisdrank wordt gezorgd. De kosten zijn voor de hele serie van 5 avonden € 50\,-. Voor leden is het bedrag € 20\,- U kunt zich aanmelden vóór 5 mei 2026 door u in te schrijven bij conservator@erfgoedgoirle.nl of een brief in de brievenbus te stoppen van Nieuwe Rielseweg 41. Meld u op tijd aan! U zult er geen spijt van krijgen.
URL:https://erfgoedgoirle.nl/event/tekens-van-leven-uit-de-goirlese-geschiedenis/
LOCATION:Heemerf “De Schutsboom”\, Nieuwe Rielseweg 41-43\, Goirle\, Noord-Brabant\, 5051 PD\, Netherlands
CATEGORIES:Schutsboom-college
ATTACH;FMTTYPE=image/jpeg:https://erfgoedgoirle.nl/wp-content/uploads/2026/04/HeemerfBrochureWilmaBouwDeHellen-scaled.jpg
END:VEVENT
BEGIN:VEVENT
DTSTART;TZID=Europe/Amsterdam:20260603T193000
DTEND;TZID=Europe/Amsterdam:20260603T213000
DTSTAMP:20260421T100142
CREATED:20260409T183805Z
LAST-MODIFIED:20260409T184710Z
UID:7261-1780515000-1780522200@erfgoedgoirle.nl
SUMMARY:Goirle\, een groeiend dorp in de 19e en 20e  eeuw
DESCRIPTION:Wij reconstrueren de planologie en stratenplannen van Goirle\, met ook de straten die het niet gehaald hebben!! \nDoor Gerrit van Heeswijk\, onze conservator. Op woensdag 3 juni 2026. \nDe locatie is onze eigen schuur achter de Schutsboom aan de Nieuwe Rielseweg 41-43 in Goirle. Daar kunnen zeker 50 personen in. Voor koffie en frisdrank wordt gezorgd. De kosten zijn voor de hele serie van 5 avonden € 50\,-. Voor leden is het bedrag € 20\,- U kunt zich aanmelden vóór 5 mei 2026 door u in te schrijven bij conservator@erfgoedgoirle.nl of een brief in de brievenbus te stoppen van Nieuwe Rielseweg 41. Meld u op tijd aan! U zult er geen spijt van krijgen.
URL:https://erfgoedgoirle.nl/event/goirle-een-groeiend-dorp-in-de-19e-en-20e-eeuw/
LOCATION:Heemerf “De Schutsboom”\, Nieuwe Rielseweg 41-43\, Goirle\, Noord-Brabant\, 5051 PD\, Netherlands
CATEGORIES:Schutsboom-college
ATTACH;FMTTYPE=image/jpeg:https://erfgoedgoirle.nl/wp-content/uploads/2026/04/HeemerfBrochureWilmaBouwDeHellen-scaled.jpg
END:VEVENT
BEGIN:VEVENT
DTSTART;TZID=Europe/Amsterdam:20260607T140000
DTEND;TZID=Europe/Amsterdam:20260607T163000
DTSTAMP:20260421T100142
CREATED:20260308T155235Z
LAST-MODIFIED:20260310T144841Z
UID:7161-1780840800-1780849800@erfgoedgoirle.nl
SUMMARY:Bezoek gratis ons museum
DESCRIPTION:Een oud boerenerf is omgetoverd tot streekmuseum: Heemerf de Schutsboom. Het museum biedt een kijkje in de ontwikkeling van Goirle en de manier waarop mensen vroeger leefden. Leuk om eens binnen te lopen\, de geschiedenis ligt er voor het oprapen. \nIn het museum lijkt het alsof de tijd heeft stilgestaan. Erfbeplanting\, een oude waterput en een oud wevershuisje met bijenstal herinneren jou en/of je (groot)ouders aan vroeger. Maak een wandeling door de kruidentuin met talloze kruiden of breng een bezoekje aan de korenmolen. Het museum bezit ook verschillende oude schatten zoals verschillende oorlogsrelicten en sieraden. \nVan 5 april t/m 18 oktober 2026 elke eerste en derde zondag van de maand tussen 14.00 en 16.30 uur. Op afspraak is ook mogelijk.
URL:https://erfgoedgoirle.nl/event/bezoek-gratis-ons-museum/
LOCATION:Heemerf “De Schutsboom”\, Nieuwe Rielseweg 41-43\, Goirle\, Noord-Brabant\, 5051 PD\, Netherlands
CATEGORIES:Museum
ATTACH;FMTTYPE=image/jpeg:https://erfgoedgoirle.nl/wp-content/uploads/2025/01/162-180A.jpg
END:VEVENT
BEGIN:VEVENT
DTSTART;TZID=Europe/Amsterdam:20260610T193000
DTEND;TZID=Europe/Amsterdam:20260610T213000
DTSTAMP:20260421T100142
CREATED:20260409T184005Z
LAST-MODIFIED:20260409T184644Z
UID:7263-1781119800-1781127000@erfgoedgoirle.nl
SUMMARY:Goirle\, een textieldorp
DESCRIPTION:De enorme snelle groei van Goirle vanaf 1870 is het onderwerp; van thuiswevers naar fabrieken. Naast textielstoffen en stalen krijgt u ook een rondgang in ’t Smiske\, ons wevershuisje.          – door Ad van de Ven. Op woensdag 10 juni 2026. \nDe locatie is onze eigen schuur achter de Schutsboom aan de Nieuwe Rielseweg 41-43 in Goirle. Daar kunnen zeker 50 personen in. Voor koffie en frisdrank wordt gezorgd. De kosten zijn voor de hele serie van 5 avonden € 50\,-. Voor leden is het bedrag € 20\,- U kunt zich aanmelden vóór 5 mei 2026 door u in te schrijven bij conservator@erfgoedgoirle.nl of een brief in de brievenbus te stoppen van Nieuwe Rielseweg 41. Meld u op tijd aan! U zult er geen spijt van krijgen.
URL:https://erfgoedgoirle.nl/event/goirle-een-textieldorp/
LOCATION:Heemerf “De Schutsboom”\, Nieuwe Rielseweg 41-43\, Goirle\, Noord-Brabant\, 5051 PD\, Netherlands
CATEGORIES:Schutsboom-college
ATTACH;FMTTYPE=image/jpeg:https://erfgoedgoirle.nl/wp-content/uploads/2026/04/HeemerfBrochureWilmaBouwDeHellen-scaled.jpg
END:VEVENT
BEGIN:VEVENT
DTSTART;TZID=Europe/Amsterdam:20260617T193000
DTEND;TZID=Europe/Amsterdam:20260617T213000
DTSTAMP:20260421T100142
CREATED:20260409T184215Z
LAST-MODIFIED:20260409T184555Z
UID:7265-1781724600-1781731800@erfgoedgoirle.nl
SUMMARY:De invloed van Goirlese vrouwen
DESCRIPTION:Goirle heeft  – verrassend – een vrij vroege emancipatiegolf gehad\, door de inzet van bijzondere vrouwen \nDoor Lucy Roodbol. Op woensdag 17 juni 2026. \nDe locatie is onze eigen schuur achter de Schutsboom aan de Nieuwe Rielseweg 41-43 in Goirle. Daar kunnen zeker 50 personen in. Voor koffie en frisdrank wordt gezorgd. De kosten zijn voor de hele serie van 5 avonden € 50\,-. Voor leden is het bedrag € 20\,- U kunt zich aanmelden vóór 5 mei 2026 door u in te schrijven bij conservator@erfgoedgoirle.nl of een brief in de brievenbus te stoppen van Nieuwe Rielseweg 41. Meld u op tijd aan! U zult er geen spijt van krijgen.
URL:https://erfgoedgoirle.nl/event/de-invloed-van-goirlese-vrouwen/
LOCATION:Heemerf “De Schutsboom”\, Nieuwe Rielseweg 41-43\, Goirle\, Noord-Brabant\, 5051 PD\, Netherlands
CATEGORIES:Schutsboom-college
ATTACH;FMTTYPE=image/jpeg:https://erfgoedgoirle.nl/wp-content/uploads/2026/04/HeemerfBrochureWilmaBouwDeHellen-scaled.jpg
END:VEVENT
BEGIN:VEVENT
DTSTART;TZID=Europe/Amsterdam:20260621T140000
DTEND;TZID=Europe/Amsterdam:20260621T163000
DTSTAMP:20260421T100142
CREATED:20260310T103735Z
LAST-MODIFIED:20260310T104004Z
UID:7164-1782050400-1782059400@erfgoedgoirle.nl
SUMMARY:Bezoek gratis ons museum
DESCRIPTION:Een oud boerenerf is omgetoverd tot streekmuseum: Heemerf de Schutsboom. Het museum biedt een kijkje in de ontwikkeling van Goirle en de manier waarop mensen vroeger leefden. Leuk om eens binnen te lopen\, de geschiedenis ligt er voor het oprapen. \nIn het museum lijkt het alsof de tijd heeft stilgestaan. Erfbeplanting\, een oude waterput en een oud wevershuisje met bijenstal herinneren jou en/of je (groot)ouders aan vroeger. Maak een wandeling door de kruidentuin met talloze kruiden of breng een bezoekje aan de korenmolen. Het museum bezit ook verschillende oude schatten zoals verschillende oorlogsrelicten en sieraden. \nVan 5 april t/m 18 oktober 2026 elke eerste en derde zondag van de maand tussen 14.00 en 16.30 uur. Op afspraak is ook mogelijk.
URL:https://erfgoedgoirle.nl/event/bezoek-gratis-ons-museum-2/
LOCATION:Heemerf “De Schutsboom”\, Nieuwe Rielseweg 41-43\, Goirle\, Noord-Brabant\, 5051 PD\, Netherlands
CATEGORIES:Museum
ATTACH;FMTTYPE=image/jpeg:https://erfgoedgoirle.nl/wp-content/uploads/2025/01/162-180A.jpg
ORGANIZER;CN="Gerrit van Heeswijk":MAILTO:conservator@erfgoedgoirle.nl
END:VEVENT
BEGIN:VEVENT
DTSTART;TZID=Europe/Amsterdam:20260624T193000
DTEND;TZID=Europe/Amsterdam:20260624T213000
DTSTAMP:20260421T100142
CREATED:20260409T184449Z
LAST-MODIFIED:20260409T184449Z
UID:7267-1782329400-1782336600@erfgoedgoirle.nl
SUMMARY:Monumenten in Goirle en het Museum
DESCRIPTION:Wij lopen denkbeeldig langs de Rijks- en Gemeentelijke monumenten\, vooral langs de Kerkstraat en de TIlburgseweg\, maar daar niet alleen. En u krijgt een korte rondleiding in ons dorpsmuseum . \nDoor Jan van Eijck. Op woensdag 24 juni 2026. \nDe locatie is onze eigen schuur achter de Schutsboom aan de Nieuwe Rielseweg 41-43 in Goirle. Daar kunnen zeker 50 personen in. Voor koffie en frisdrank wordt gezorgd. De kosten zijn voor de hele serie van 5 avonden € 50\,-. Voor leden is het bedrag € 20\,- U kunt zich aanmelden vóór 5 mei 2026 door u in te schrijven bij conservator@erfgoedgoirle.nl of een brief in de brievenbus te stoppen van Nieuwe Rielseweg 41. Meld u op tijd aan! U zult er geen spijt van krijgen. \n  \n 
URL:https://erfgoedgoirle.nl/event/monumenten-in-goirle-en-het-museum/
LOCATION:Heemerf “De Schutsboom”\, Nieuwe Rielseweg 41-43\, Goirle\, Noord-Brabant\, 5051 PD\, Netherlands
CATEGORIES:Schutsboom-college
ATTACH;FMTTYPE=image/jpeg:https://erfgoedgoirle.nl/wp-content/uploads/2026/04/HeemerfBrochureWilmaBouwDeHellen-scaled.jpg
END:VEVENT
BEGIN:VEVENT
DTSTART;TZID=Europe/Amsterdam:20260705T140000
DTEND;TZID=Europe/Amsterdam:20260705T163000
DTSTAMP:20260421T100142
CREATED:20260410T093618Z
LAST-MODIFIED:20260410T093829Z
UID:7285-1783260000-1783269000@erfgoedgoirle.nl
SUMMARY:Bezoek gratis ons museum
DESCRIPTION:Een oud boerenerf is omgetoverd tot streekmuseum: Heemerf de Schutsboom. Het museum biedt een kijkje in de ontwikkeling van Goirle en de manier waarop mensen vroeger leefden. Leuk om eens binnen te lopen\, de geschiedenis ligt er voor het oprapen. \nIn het museum lijkt het alsof de tijd heeft stilgestaan. Erfbeplanting\, een oude waterput en een oud wevershuisje met bijenstal herinneren jou en/of je (groot)ouders aan vroeger. Maak een wandeling door de kruidentuin met talloze kruiden of breng een bezoekje aan de korenmolen. Het museum bezit ook verschillende oude schatten zoals verschillende oorlogsrelicten en sieraden. \nVan 5 april t/m 18 oktober 2026 elke eerste en derde zondag van de maand tussen 14.00 en 16.30 uur. Op afspraak is ook mogelijk.
URL:https://erfgoedgoirle.nl/event/bezoek-gratis-ons-museum-3/
LOCATION:Heemerf “De Schutsboom”\, Nieuwe Rielseweg 41-43\, Goirle\, Noord-Brabant\, 5051 PD\, Netherlands
CATEGORIES:Museum
ATTACH;FMTTYPE=image/jpeg:https://erfgoedgoirle.nl/wp-content/uploads/2025/01/162-180A.jpg
END:VEVENT
BEGIN:VEVENT
DTSTART;TZID=Europe/Amsterdam:20260719T140000
DTEND;TZID=Europe/Amsterdam:20260719T163000
DTSTAMP:20260421T100142
CREATED:20260410T094007Z
LAST-MODIFIED:20260410T094007Z
UID:7288-1784469600-1784478600@erfgoedgoirle.nl
SUMMARY:Bezoek gratis ons museum
DESCRIPTION:Een oud boerenerf is omgetoverd tot streekmuseum: Heemerf de Schutsboom. Het museum biedt een kijkje in de ontwikkeling van Goirle en de manier waarop mensen vroeger leefden. Leuk om eens binnen te lopen\, de geschiedenis ligt er voor het oprapen. \nIn het museum lijkt het alsof de tijd heeft stilgestaan. Erfbeplanting\, een oude waterput en een oud wevershuisje met bijenstal herinneren jou en/of je (groot)ouders aan vroeger. Maak een wandeling door de kruidentuin met talloze kruiden of breng een bezoekje aan de korenmolen. Het museum bezit ook verschillende oude schatten zoals verschillende oorlogsrelicten en sieraden. \nVan 5 april t/m 18 oktober 2026 elke eerste en derde zondag van de maand tussen 14.00 en 16.30 uur. Op afspraak is ook mogelijk.
URL:https://erfgoedgoirle.nl/event/bezoek-gratis-ons-museum-4/
LOCATION:Heemerf “De Schutsboom”\, Nieuwe Rielseweg 41-43\, Goirle\, Noord-Brabant\, 5051 PD\, Netherlands
CATEGORIES:Museum
ATTACH;FMTTYPE=image/jpeg:https://erfgoedgoirle.nl/wp-content/uploads/2025/01/162-180A.jpg
END:VEVENT
BEGIN:VEVENT
DTSTART;TZID=Europe/Amsterdam:20260802T140000
DTEND;TZID=Europe/Amsterdam:20260802T163000
DTSTAMP:20260421T100142
CREATED:20260410T094223Z
LAST-MODIFIED:20260410T094317Z
UID:7290-1785679200-1785688200@erfgoedgoirle.nl
SUMMARY:Bezoek gratis ons museum
DESCRIPTION:Een oud boerenerf is omgetoverd tot streekmuseum: Heemerf de Schutsboom. Het museum biedt een kijkje in de ontwikkeling van Goirle en de manier waarop mensen vroeger leefden. Leuk om eens binnen te lopen\, de geschiedenis ligt er voor het oprapen. \nIn het museum lijkt het alsof de tijd heeft stilgestaan. Erfbeplanting\, een oude waterput en een oud wevershuisje met bijenstal herinneren jou en/of je (groot)ouders aan vroeger. Maak een wandeling door de kruidentuin met talloze kruiden of breng een bezoekje aan de korenmolen. Het museum bezit ook verschillende oude schatten zoals verschillende oorlogsrelicten en sieraden. \nVan 5 april t/m 18 oktober 2026 elke eerste en derde zondag van de maand tussen 14.00 en 16.30 uur. Op afspraak is ook mogelijk.
URL:https://erfgoedgoirle.nl/event/bezoek-gratis-ons-museum-5/
LOCATION:Heemerf “De Schutsboom”\, Nieuwe Rielseweg 41-43\, Goirle\, Noord-Brabant\, 5051 PD\, Netherlands
CATEGORIES:Museum
ATTACH;FMTTYPE=image/jpeg:https://erfgoedgoirle.nl/wp-content/uploads/2025/01/162-180A.jpg
END:VEVENT
BEGIN:VEVENT
DTSTART;TZID=Europe/Amsterdam:20260816T140000
DTEND;TZID=Europe/Amsterdam:20260816T163000
DTSTAMP:20260421T100142
CREATED:20260410T094520Z
LAST-MODIFIED:20260410T094520Z
UID:7292-1786888800-1786897800@erfgoedgoirle.nl
SUMMARY:Bezoek gratis ons museum
DESCRIPTION:Een oud boerenerf is omgetoverd tot streekmuseum: Heemerf de Schutsboom. Het museum biedt een kijkje in de ontwikkeling van Goirle en de manier waarop mensen vroeger leefden. Leuk om eens binnen te lopen\, de geschiedenis ligt er voor het oprapen. \nIn het museum lijkt het alsof de tijd heeft stilgestaan. Erfbeplanting\, een oude waterput en een oud wevershuisje met bijenstal herinneren jou en/of je (groot)ouders aan vroeger. Maak een wandeling door de kruidentuin met talloze kruiden of breng een bezoekje aan de korenmolen. Het museum bezit ook verschillende oude schatten zoals verschillende oorlogsrelicten en sieraden. \nVan 5 april t/m 18 oktober 2026 elke eerste en derde zondag van de maand tussen 14.00 en 16.30 uur. Op afspraak is ook mogelijk.
URL:https://erfgoedgoirle.nl/event/bezoek-gratis-ons-museum-6/
LOCATION:Heemerf “De Schutsboom”\, Nieuwe Rielseweg 41-43\, Goirle\, Noord-Brabant\, 5051 PD\, Netherlands
CATEGORIES:Museum
ATTACH;FMTTYPE=image/jpeg:https://erfgoedgoirle.nl/wp-content/uploads/2025/01/162-180A.jpg
END:VEVENT
BEGIN:VEVENT
DTSTART;TZID=Europe/Amsterdam:20260906T140000
DTEND;TZID=Europe/Amsterdam:20260906T163000
DTSTAMP:20260421T100142
CREATED:20260410T094756Z
LAST-MODIFIED:20260410T094756Z
UID:7294-1788703200-1788712200@erfgoedgoirle.nl
SUMMARY:Bezoek ons gratis museum
DESCRIPTION:Een oud boerenerf is omgetoverd tot streekmuseum: Heemerf de Schutsboom. Het museum biedt een kijkje in de ontwikkeling van Goirle en de manier waarop mensen vroeger leefden. Leuk om eens binnen te lopen\, de geschiedenis ligt er voor het oprapen. \nIn het museum lijkt het alsof de tijd heeft stilgestaan. Erfbeplanting\, een oude waterput en een oud wevershuisje met bijenstal herinneren jou en/of je (groot)ouders aan vroeger. Maak een wandeling door de kruidentuin met talloze kruiden of breng een bezoekje aan de korenmolen. Het museum bezit ook verschillende oude schatten zoals verschillende oorlogsrelicten en sieraden. \nVan 5 april t/m 18 oktober 2026 elke eerste en derde zondag van de maand tussen 14.00 en 16.30 uur. Op afspraak is ook mogelijk.
URL:https://erfgoedgoirle.nl/event/bezoek-ons-gratis-museum/
LOCATION:Heemerf “De Schutsboom”\, Nieuwe Rielseweg 41-43\, Goirle\, Noord-Brabant\, 5051 PD\, Netherlands
CATEGORIES:Museum
ATTACH;FMTTYPE=image/jpeg:https://erfgoedgoirle.nl/wp-content/uploads/2025/01/162-180A.jpg
END:VEVENT
BEGIN:VEVENT
DTSTART;TZID=Europe/Amsterdam:20260920T140000
DTEND;TZID=Europe/Amsterdam:20260920T163000
DTSTAMP:20260421T100142
CREATED:20260410T094933Z
LAST-MODIFIED:20260410T094933Z
UID:7296-1789912800-1789921800@erfgoedgoirle.nl
SUMMARY:Bezoek ons gratis museum
DESCRIPTION:Een oud boerenerf is omgetoverd tot streekmuseum: Heemerf de Schutsboom. Het museum biedt een kijkje in de ontwikkeling van Goirle en de manier waarop mensen vroeger leefden. Leuk om eens binnen te lopen\, de geschiedenis ligt er voor het oprapen. \nIn het museum lijkt het alsof de tijd heeft stilgestaan. Erfbeplanting\, een oude waterput en een oud wevershuisje met bijenstal herinneren jou en/of je (groot)ouders aan vroeger. Maak een wandeling door de kruidentuin met talloze kruiden of breng een bezoekje aan de korenmolen. Het museum bezit ook verschillende oude schatten zoals verschillende oorlogsrelicten en sieraden. \nVan 5 april t/m 18 oktober 2026 elke eerste en derde zondag van de maand tussen 14.00 en 16.30 uur. Op afspraak is ook mogelijk.
URL:https://erfgoedgoirle.nl/event/bezoek-ons-gratis-museum-2/
LOCATION:Heemerf “De Schutsboom”\, Nieuwe Rielseweg 41-43\, Goirle\, Noord-Brabant\, 5051 PD\, Netherlands
CATEGORIES:Museum
ATTACH;FMTTYPE=image/jpeg:https://erfgoedgoirle.nl/wp-content/uploads/2025/01/162-180A.jpg
END:VEVENT
BEGIN:VEVENT
DTSTART;TZID=Europe/Amsterdam:20261004T140000
DTEND;TZID=Europe/Amsterdam:20261004T163000
DTSTAMP:20260421T100142
CREATED:20260410T095202Z
LAST-MODIFIED:20260410T095202Z
UID:7298-1791122400-1791131400@erfgoedgoirle.nl
SUMMARY:Bezoek ons gratis museum
DESCRIPTION:Een oud boerenerf is omgetoverd tot streekmuseum: Heemerf de Schutsboom. Het museum biedt een kijkje in de ontwikkeling van Goirle en de manier waarop mensen vroeger leefden. Leuk om eens binnen te lopen\, de geschiedenis ligt er voor het oprapen. \nIn het museum lijkt het alsof de tijd heeft stilgestaan. Erfbeplanting\, een oude waterput en een oud wevershuisje met bijenstal herinneren jou en/of je (groot)ouders aan vroeger. Maak een wandeling door de kruidentuin met talloze kruiden of breng een bezoekje aan de korenmolen. Het museum bezit ook verschillende oude schatten zoals verschillende oorlogsrelicten en sieraden. \nVan 5 april t/m 18 oktober 2026 elke eerste en derde zondag van de maand tussen 14.00 en 16.30 uur. Op afspraak is ook mogelijk.
URL:https://erfgoedgoirle.nl/event/bezoek-ons-gratis-museum-3/
LOCATION:Heemerf “De Schutsboom”\, Nieuwe Rielseweg 41-43\, Goirle\, Noord-Brabant\, 5051 PD\, Netherlands
CATEGORIES:Museum
ATTACH;FMTTYPE=image/jpeg:https://erfgoedgoirle.nl/wp-content/uploads/2025/01/162-180A.jpg
END:VEVENT
BEGIN:VEVENT
DTSTART;TZID=Europe/Amsterdam:20261018T140000
DTEND;TZID=Europe/Amsterdam:20261018T163000
DTSTAMP:20260421T100142
CREATED:20260410T095350Z
LAST-MODIFIED:20260410T095537Z
UID:7300-1792332000-1792341000@erfgoedgoirle.nl
SUMMARY:Bezoek ons gratis museum
DESCRIPTION:Een oud boerenerf is omgetoverd tot streekmuseum: Heemerf de Schutsboom. Het museum biedt een kijkje in de ontwikkeling van Goirle en de manier waarop mensen vroeger leefden. Leuk om eens binnen te lopen\, de geschiedenis ligt er voor het oprapen. \nIn het museum lijkt het alsof de tijd heeft stilgestaan. Erfbeplanting\, een oude waterput en een oud wevershuisje met bijenstal herinneren jou en/of je (groot)ouders aan vroeger. Maak een wandeling door de kruidentuin met talloze kruiden of breng een bezoekje aan de korenmolen. Het museum bezit ook verschillende oude schatten zoals verschillende oorlogsrelicten en sieraden. \nVan 5 april t/m 18 oktober 2026 elke eerste en derde zondag van de maand tussen 14.00 en 16.30 uur. Op afspraak is ook mogelijk.
URL:https://erfgoedgoirle.nl/event/bezoek-ons-gratis-museum-4/
LOCATION:Heemerf “De Schutsboom”\, Nieuwe Rielseweg 41-43\, Goirle\, Noord-Brabant\, 5051 PD\, Netherlands
CATEGORIES:Museum
ATTACH;FMTTYPE=image/jpeg:https://erfgoedgoirle.nl/wp-content/uploads/2025/01/162-180A.jpg
END:VEVENT
END:VCALENDAR